BEGIN:VCALENDAR
VERSION:2.0
PRODID:-//Author Mark Munger (Cloquet River Press) - ECPv6.15.20//NONSGML v1.0//EN
CALSCALE:GREGORIAN
METHOD:PUBLISH
X-ORIGINAL-URL:https://cloquetriverpress.com
X-WR-CALDESC:Events for Author Mark Munger (Cloquet River Press)
REFRESH-INTERVAL;VALUE=DURATION:PT1H
X-Robots-Tag:noindex
X-PUBLISHED-TTL:PT1H
BEGIN:VTIMEZONE
TZID:America/Chicago
BEGIN:DAYLIGHT
TZOFFSETFROM:-0600
TZOFFSETTO:-0500
TZNAME:CDT
DTSTART:20210314T080000
END:DAYLIGHT
BEGIN:STANDARD
TZOFFSETFROM:-0500
TZOFFSETTO:-0600
TZNAME:CST
DTSTART:20211107T070000
END:STANDARD
BEGIN:DAYLIGHT
TZOFFSETFROM:-0600
TZOFFSETTO:-0500
TZNAME:CDT
DTSTART:20220313T080000
END:DAYLIGHT
BEGIN:STANDARD
TZOFFSETFROM:-0500
TZOFFSETTO:-0600
TZNAME:CST
DTSTART:20221106T070000
END:STANDARD
BEGIN:DAYLIGHT
TZOFFSETFROM:-0600
TZOFFSETTO:-0500
TZNAME:CDT
DTSTART:20230312T080000
END:DAYLIGHT
BEGIN:STANDARD
TZOFFSETFROM:-0500
TZOFFSETTO:-0600
TZNAME:CST
DTSTART:20231105T070000
END:STANDARD
END:VTIMEZONE
BEGIN:VEVENT
DTSTART;TZID=America/Chicago:20220826T140000
DTEND;TZID=America/Chicago:20220828T160000
DTSTAMP:20260419T215257
CREATED:20220808T115805Z
LAST-MODIFIED:20220808T120038Z
UID:9807-1661522400-1661702400@cloquetriverpress.com
SUMMARY:Embarrass Regional Fair
DESCRIPTION:Three days of fun on the Iron Range! Mark will be indoors at the Community Center to meet\, greet\, and sign and sell his latest books to his readers!
URL:https://cloquetriverpress.com/event/embarrass-regional-fair/
LOCATION:Minnesota
END:VEVENT
END:VCALENDAR