BEGIN:VCALENDAR
VERSION:2.0
PRODID:-//Author Mark Munger (Cloquet River Press) - ECPv6.15.20//NONSGML v1.0//EN
CALSCALE:GREGORIAN
METHOD:PUBLISH
X-WR-CALNAME:Author Mark Munger (Cloquet River Press)
X-ORIGINAL-URL:https://cloquetriverpress.com
X-WR-CALDESC:Events for Author Mark Munger (Cloquet River Press)
REFRESH-INTERVAL;VALUE=DURATION:PT1H
X-Robots-Tag:noindex
X-PUBLISHED-TTL:PT1H
BEGIN:VTIMEZONE
TZID:America/Chicago
BEGIN:DAYLIGHT
TZOFFSETFROM:-0600
TZOFFSETTO:-0500
TZNAME:CDT
DTSTART:20230312T080000
END:DAYLIGHT
BEGIN:STANDARD
TZOFFSETFROM:-0500
TZOFFSETTO:-0600
TZNAME:CST
DTSTART:20231105T070000
END:STANDARD
BEGIN:DAYLIGHT
TZOFFSETFROM:-0600
TZOFFSETTO:-0500
TZNAME:CDT
DTSTART:20240310T080000
END:DAYLIGHT
BEGIN:STANDARD
TZOFFSETFROM:-0500
TZOFFSETTO:-0600
TZNAME:CST
DTSTART:20241103T070000
END:STANDARD
BEGIN:DAYLIGHT
TZOFFSETFROM:-0600
TZOFFSETTO:-0500
TZNAME:CDT
DTSTART:20250309T080000
END:DAYLIGHT
BEGIN:STANDARD
TZOFFSETFROM:-0500
TZOFFSETTO:-0600
TZNAME:CST
DTSTART:20251102T070000
END:STANDARD
END:VTIMEZONE
BEGIN:VEVENT
DTSTART;TZID=America/Chicago:20240207T113000
DTEND;TZID=America/Chicago:20240207T130000
DTSTAMP:20260419T211957
CREATED:20240113T225046Z
LAST-MODIFIED:20240113T225046Z
UID:10137-1707305400-1707310800@cloquetriverpress.com
SUMMARY:Lunch in Cotton
DESCRIPTION:Come join Mark and the nice folks from Cotton at the Cotton\, MN Community Center. Eat\, laugh\, talk\, and ask Mark tough questions about his books and his writing. Free and open to the public. \n 
URL:https://cloquetriverpress.com/event/lunch-in-cotton/
LOCATION:Cotton Community Center\, Cotton\, Minnesota
CATEGORIES:Events
END:VEVENT
END:VCALENDAR