BEGIN:VCALENDAR
VERSION:2.0
PRODID:-//Author Mark Munger (Cloquet River Press) - ECPv6.15.20//NONSGML v1.0//EN
CALSCALE:GREGORIAN
METHOD:PUBLISH
X-ORIGINAL-URL:https://cloquetriverpress.com
X-WR-CALDESC:Events for Author Mark Munger (Cloquet River Press)
REFRESH-INTERVAL;VALUE=DURATION:PT1H
X-Robots-Tag:noindex
X-PUBLISHED-TTL:PT1H
BEGIN:VTIMEZONE
TZID:America/Chicago
BEGIN:DAYLIGHT
TZOFFSETFROM:-0600
TZOFFSETTO:-0500
TZNAME:CDT
DTSTART:20220313T080000
END:DAYLIGHT
BEGIN:STANDARD
TZOFFSETFROM:-0500
TZOFFSETTO:-0600
TZNAME:CST
DTSTART:20221106T070000
END:STANDARD
BEGIN:DAYLIGHT
TZOFFSETFROM:-0600
TZOFFSETTO:-0500
TZNAME:CDT
DTSTART:20230312T080000
END:DAYLIGHT
BEGIN:STANDARD
TZOFFSETFROM:-0500
TZOFFSETTO:-0600
TZNAME:CST
DTSTART:20231105T070000
END:STANDARD
BEGIN:DAYLIGHT
TZOFFSETFROM:-0600
TZOFFSETTO:-0500
TZNAME:CDT
DTSTART:20240310T080000
END:DAYLIGHT
BEGIN:STANDARD
TZOFFSETFROM:-0500
TZOFFSETTO:-0600
TZNAME:CST
DTSTART:20241103T070000
END:STANDARD
BEGIN:DAYLIGHT
TZOFFSETFROM:-0600
TZOFFSETTO:-0500
TZNAME:CDT
DTSTART:20250309T080000
END:DAYLIGHT
BEGIN:STANDARD
TZOFFSETFROM:-0500
TZOFFSETTO:-0600
TZNAME:CST
DTSTART:20251102T070000
END:STANDARD
END:VTIMEZONE
BEGIN:VEVENT
DTSTART;TZID=America/Chicago:20230907T120000
DTEND;TZID=America/Chicago:20230907T140000
DTSTAMP:20260419T173420
CREATED:20230829T155253Z
LAST-MODIFIED:20230829T155253Z
UID:10018-1694088000-1694095200@cloquetriverpress.com
SUMMARY:Temple Talk at Temple Israel
DESCRIPTION:Join members of the congregation and Mark as Mark explores his Finnish American trilogy\, with special emphasis on Sukulaiset: The Kindred\, and the Holocaust in Estonia. Free and open to the public but please\, as lunch will be served\, email your attendance to: office@jewishduluth.org . It should be a great discussion! \n 
URL:https://cloquetriverpress.com/event/temple-talk-at-temple-israel/
LOCATION:Temple Israel\, 1602 E 2nd St\, Duluth\, MN\, United States
CATEGORIES:Events
END:VEVENT
BEGIN:VEVENT
DTSTART;TZID=America/Chicago:20230916T100000
DTEND;TZID=America/Chicago:20230916T160000
DTSTAMP:20260419T173420
CREATED:20230726T010106Z
LAST-MODIFIED:20230726T010106Z
UID:10009-1694858400-1694880000@cloquetriverpress.com
SUMMARY:Country Faire
DESCRIPTION:A great little art and craft fair\, including dozens of regional authors\, at the Steeple Center in Rosemount\, MN.
URL:https://cloquetriverpress.com/event/country-faire/
LOCATION:Steeple Center Rosemount\, MN\, 14375 S. Robert Trail\, Rosemount\, United States
END:VEVENT
BEGIN:VEVENT
DTSTART;TZID=America/Chicago:20240203T090000
DTEND;TZID=America/Chicago:20240204T160000
DTSTAMP:20260419T173420
CREATED:20240112T165716Z
LAST-MODIFIED:20240112T165716Z
UID:10134-1706950800-1707062400@cloquetriverpress.com
SUMMARY:Laiskiainen Is Back!
DESCRIPTION:Join Mark and all his Finnish friends for the best outdoor Finnish festival in Minnesota! Mark will be i the tori selling and signing his books. Plenty of food\, music\, arts\, crafts\, and yes\, the vaunted sliding hill that launches your out onto the ice of Loon Lake!
URL:https://cloquetriverpress.com/event/laiskiainen-is-back/
LOCATION:Loon Lake Community Center\, Palo\, MN
CATEGORIES:Events
END:VEVENT
BEGIN:VEVENT
DTSTART;TZID=America/Chicago:20240207T113000
DTEND;TZID=America/Chicago:20240207T130000
DTSTAMP:20260419T173420
CREATED:20240113T225046Z
LAST-MODIFIED:20240113T225046Z
UID:10137-1707305400-1707310800@cloquetriverpress.com
SUMMARY:Lunch in Cotton
DESCRIPTION:Come join Mark and the nice folks from Cotton at the Cotton\, MN Community Center. Eat\, laugh\, talk\, and ask Mark tough questions about his books and his writing. Free and open to the public. \n 
URL:https://cloquetriverpress.com/event/lunch-in-cotton/
LOCATION:Cotton Community Center\, Cotton\, Minnesota
CATEGORIES:Events
END:VEVENT
END:VCALENDAR