BEGIN:VCALENDAR
VERSION:2.0
PRODID:-//Author Mark Munger (Cloquet River Press) - ECPv6.15.20//NONSGML v1.0//EN
CALSCALE:GREGORIAN
METHOD:PUBLISH
X-WR-CALNAME:Author Mark Munger (Cloquet River Press)
X-ORIGINAL-URL:https://cloquetriverpress.com
X-WR-CALDESC:Events for Author Mark Munger (Cloquet River Press)
REFRESH-INTERVAL;VALUE=DURATION:PT1H
X-Robots-Tag:noindex
X-PUBLISHED-TTL:PT1H
BEGIN:VTIMEZONE
TZID:America/Chicago
BEGIN:DAYLIGHT
TZOFFSETFROM:-0600
TZOFFSETTO:-0500
TZNAME:CDT
DTSTART:20210314T080000
END:DAYLIGHT
BEGIN:STANDARD
TZOFFSETFROM:-0500
TZOFFSETTO:-0600
TZNAME:CST
DTSTART:20211107T070000
END:STANDARD
BEGIN:DAYLIGHT
TZOFFSETFROM:-0600
TZOFFSETTO:-0500
TZNAME:CDT
DTSTART:20220313T080000
END:DAYLIGHT
BEGIN:STANDARD
TZOFFSETFROM:-0500
TZOFFSETTO:-0600
TZNAME:CST
DTSTART:20221106T070000
END:STANDARD
BEGIN:DAYLIGHT
TZOFFSETFROM:-0600
TZOFFSETTO:-0500
TZNAME:CDT
DTSTART:20230312T080000
END:DAYLIGHT
BEGIN:STANDARD
TZOFFSETFROM:-0500
TZOFFSETTO:-0600
TZNAME:CST
DTSTART:20231105T070000
END:STANDARD
END:VTIMEZONE
BEGIN:VEVENT
DTSTART;TZID=America/Chicago:20220813T090000
DTEND;TZID=America/Chicago:20220813T150000
DTSTAMP:20260419T212430
CREATED:20220808T114951Z
LAST-MODIFIED:20220808T120134Z
UID:9804-1660381200-1660402800@cloquetriverpress.com
SUMMARY:Northwoods Art and Book Festival
DESCRIPTION:Come see\, talk to Mark\, and buy a signed copy of his latest books at this wonderful event! Mark will be in the Community Center\, indoors and out of the weather!
URL:https://cloquetriverpress.com/event/northwoods-art-and-book-festival/
END:VEVENT
END:VCALENDAR