BEGIN:VCALENDAR
VERSION:2.0
PRODID:-//Author Mark Munger (Cloquet River Press) - ECPv6.15.20//NONSGML v1.0//EN
CALSCALE:GREGORIAN
METHOD:PUBLISH
X-ORIGINAL-URL:https://cloquetriverpress.com
X-WR-CALDESC:Events for Author Mark Munger (Cloquet River Press)
REFRESH-INTERVAL;VALUE=DURATION:PT1H
X-Robots-Tag:noindex
X-PUBLISHED-TTL:PT1H
BEGIN:VTIMEZONE
TZID:America/Chicago
BEGIN:DAYLIGHT
TZOFFSETFROM:-0600
TZOFFSETTO:-0500
TZNAME:CDT
DTSTART:20210314T080000
END:DAYLIGHT
BEGIN:STANDARD
TZOFFSETFROM:-0500
TZOFFSETTO:-0600
TZNAME:CST
DTSTART:20211107T070000
END:STANDARD
BEGIN:DAYLIGHT
TZOFFSETFROM:-0600
TZOFFSETTO:-0500
TZNAME:CDT
DTSTART:20220313T080000
END:DAYLIGHT
BEGIN:STANDARD
TZOFFSETFROM:-0500
TZOFFSETTO:-0600
TZNAME:CST
DTSTART:20221106T070000
END:STANDARD
BEGIN:DAYLIGHT
TZOFFSETFROM:-0600
TZOFFSETTO:-0500
TZNAME:CDT
DTSTART:20230312T080000
END:DAYLIGHT
BEGIN:STANDARD
TZOFFSETFROM:-0500
TZOFFSETTO:-0600
TZNAME:CST
DTSTART:20231105T070000
END:STANDARD
END:VTIMEZONE
BEGIN:VEVENT
DTSTART;TZID=America/Chicago:20220917T100000
DTEND;TZID=America/Chicago:20220917T160000
DTSTAMP:20260419T183711
CREATED:20220808T120553Z
LAST-MODIFIED:20220808T120553Z
UID:9811-1663408800-1663430400@cloquetriverpress.com
SUMMARY:Rosemount Country Faire
DESCRIPTION:Once again\, come join Mark at the lovely Steeple Center in historic Rosemount\, Minnesota for a great little indoor festival! Mark will have his latest books along for your purchase!
URL:https://cloquetriverpress.com/event/rosemount-country-faire/
LOCATION:Minnesota
END:VEVENT
END:VCALENDAR